BEGIN:VCALENDAR
VERSION:2.0
PRODID:-//Peninsula Foundation - ECPv6.6.4.2//NONSGML v1.0//EN
CALSCALE:GREGORIAN
METHOD:PUBLISH
X-WR-CALNAME:Peninsula Foundation
X-ORIGINAL-URL:https://thepeninsulafoundation.org
X-WR-CALDESC:Events for Peninsula Foundation
REFRESH-INTERVAL;VALUE=DURATION:PT1H
X-Robots-Tag:noindex
X-PUBLISHED-TTL:PT1H
BEGIN:VTIMEZONE
TZID:America/New_York
BEGIN:DAYLIGHT
TZOFFSETFROM:-0500
TZOFFSETTO:-0400
TZNAME:EDT
DTSTART:20260308T070000
END:DAYLIGHT
BEGIN:STANDARD
TZOFFSETFROM:-0400
TZOFFSETTO:-0500
TZNAME:EST
DTSTART:20261101T060000
END:STANDARD
END:VTIMEZONE
BEGIN:VEVENT
DTSTART;TZID=America/New_York:20260711T200000
DTEND;TZID=America/New_York:20260711T220000
DTSTAMP:20260423T090513
CREATED:20260306T054546Z
LAST-MODIFIED:20260306T054618Z
UID:21937-1783800000-1783807200@thepeninsulafoundation.org
SUMMARY:Caleb Caudle
DESCRIPTION:July 11- Caleb Caudle\nCaleb Caudle has built his career the old-fashioned way—through steady touring\, thoughtful songwriting\, and a deep connection to the country traditions of his North Carolina roots. His music blends classic country storytelling with the indie influences he grew up hearing\, creating a sound that feels both timeless and personal. \nHis latest album\, Heavy Thrill\, marks an important new chapter. Recorded at the legendary Cash Cabin in Tennessee\, the album finds Caudle self-producing for the first time and launching his own label\, Handplow Records. The songs reflect themes of patience\, perseverance\, and the quiet resilience found in everyday life. \nCaudle has performed around the world and at major festivals including Merlefest\, Stagecoach\, and the Kerrville Folk Festival. His work has been praised by The New York Times\, Rolling Stone\, NPR\, and No Depression\, and in 2024 he stepped into the famed circle of the Grand Ole Opry for the first time. \nGeneral Admission – 20.00\nBar area opens at 7pm\nDoors to Concert Hall opens at 7:30pm\nMusic at 8pm
URL:https://thepeninsulafoundation.org/event/caleb-caudle/
LOCATION:G.A.R. Hall\, 1785 Main St\, Peninsula\, OH\, 44264\, United States
ATTACH;FMTTYPE=image/jpeg:https://thepeninsulafoundation.org/wp-content/uploads/2026/03/Unknown-1.jpeg
END:VEVENT
END:VCALENDAR