BEGIN:VCALENDAR
VERSION:2.0
PRODID:-//Peninsula Foundation - ECPv6.6.4.2//NONSGML v1.0//EN
CALSCALE:GREGORIAN
METHOD:PUBLISH
X-ORIGINAL-URL:https://thepeninsulafoundation.org
X-WR-CALDESC:Events for Peninsula Foundation
REFRESH-INTERVAL;VALUE=DURATION:PT1H
X-Robots-Tag:noindex
X-PUBLISHED-TTL:PT1H
BEGIN:VTIMEZONE
TZID:America/New_York
BEGIN:DAYLIGHT
TZOFFSETFROM:-0500
TZOFFSETTO:-0400
TZNAME:EDT
DTSTART:20260308T070000
END:DAYLIGHT
BEGIN:STANDARD
TZOFFSETFROM:-0400
TZOFFSETTO:-0500
TZNAME:EST
DTSTART:20261101T060000
END:STANDARD
END:VTIMEZONE
BEGIN:VEVENT
DTSTART;TZID=America/New_York:20260925T200000
DTEND;TZID=America/New_York:20260925T220000
DTSTAMP:20260419T124319
CREATED:20260415T133912Z
LAST-MODIFIED:20260415T134156Z
UID:21961-1790366400-1790373600@thepeninsulafoundation.org
SUMMARY:Ron Pope
DESCRIPTION:September 25th – Ron Pope – Fiercely independent\, Nashville-based recording artist\, Ron Pope\, carved his niche in the digital era’s early days with his breakout hit\, “A Drop in the Ocean\,” which has amassed over 1 billion streams\, earning platinum status in the US\, alongside double platinum status in Sweden. His prolific songwriting is a natural fit for Music City’s Americana\, roots\, and country communities\, garnering praise from publications such as Rolling Stone\, Billboard\, CMT\, Relix\, and The Tennessean. With each release\, including his most recent album\, American Man\, American Music\, released in February 2025\, Pope continues to captivate audiences with his raw authenticity and profound storytelling\, soul-stirring melodies\, and introspective lyricism. Beyond his own musical endeavors\, Pope writes and produces for other artists\, and serves as a guiding light for aspiring musicians navigating the ever-changing landscape of today’s music industry. \nTickets for this event go on sale on April 17th at 10am \nGeneral Admission – 40.00\nJoin us in the bar area at 7pm\nConcert Hall doors open at 7:30pm\nMusic at 8pm
URL:https://thepeninsulafoundation.org/event/ron-pope/
LOCATION:G.A.R. Hall\, 1785 Main St\, Peninsula\, OH\, 44264\, United States
ATTACH;FMTTYPE=image/jpeg:https://thepeninsulafoundation.org/wp-content/uploads/2026/04/Ron-Pope-Press-Photo-2025-1-Cred-Blair-Clark-scaled.jpg
END:VEVENT
END:VCALENDAR